BEGIN:VCALENDAR
VERSION:2.0
PRODID:-//Aktá Lakota Museum &amp; Cultural Center - ECPv6.15.20//NONSGML v1.0//EN
CALSCALE:GREGORIAN
METHOD:PUBLISH
X-WR-CALNAME:Aktá Lakota Museum &amp; Cultural Center
X-ORIGINAL-URL:https://aktalakota.stjo.org
X-WR-CALDESC:Events for Aktá Lakota Museum &amp; Cultural Center
REFRESH-INTERVAL;VALUE=DURATION:PT1H
X-Robots-Tag:noindex
X-PUBLISHED-TTL:PT1H
BEGIN:VTIMEZONE
TZID:America/North_Dakota/Center
BEGIN:DAYLIGHT
TZOFFSETFROM:-0600
TZOFFSETTO:-0500
TZNAME:CDT
DTSTART:20220313T080000
END:DAYLIGHT
BEGIN:STANDARD
TZOFFSETFROM:-0500
TZOFFSETTO:-0600
TZNAME:CST
DTSTART:20221106T070000
END:STANDARD
BEGIN:DAYLIGHT
TZOFFSETFROM:-0600
TZOFFSETTO:-0500
TZNAME:CDT
DTSTART:20230312T080000
END:DAYLIGHT
BEGIN:STANDARD
TZOFFSETFROM:-0500
TZOFFSETTO:-0600
TZNAME:CST
DTSTART:20231105T070000
END:STANDARD
BEGIN:DAYLIGHT
TZOFFSETFROM:-0600
TZOFFSETTO:-0500
TZNAME:CDT
DTSTART:20240310T080000
END:DAYLIGHT
BEGIN:STANDARD
TZOFFSETFROM:-0500
TZOFFSETTO:-0600
TZNAME:CST
DTSTART:20241103T070000
END:STANDARD
END:VTIMEZONE
BEGIN:VEVENT
DTSTART;VALUE=DATE:20230619
DTEND;VALUE=DATE:20231101
DTSTAMP:20260422T140235
CREATED:20230426T153607Z
LAST-MODIFIED:20230720T161448Z
UID:6656-1687132800-1698796799@aktalakota.stjo.org
SUMMARY:Navigating NarrativesThe Corps of Discovery in Teton Territory
DESCRIPTION:Navigating Narratives\nThe Corps of Discovery in Teton Territory \nNavigating Narratives is the newest exhibition by the Center for American Indian Research and Native Studies (CAIRNS). \nThe exhibit focuses on the eight days in September of 1804 when the Corps of Discovery traveled up the Missouri River through the land of the Teton people. It closely examines the published journals of William Clark\, Patrick Gass\, John Ordway\, and Joseph Whitehouse through the amazing artworks of sounds\, words\, and imagery by over sixty South Dakotan artists. \nMore than sixty artists\, poets\, and musicians read the journal entries of Clark\, Gass\, Ordway\, and Whitehouse\, and then created new works that are tied to them in some way. Their paintings\, poems\, and songs comprised this new educational art exhibition\, curated by CAIRNS. \nThe exhibition opened at the Aktá Lakota Museum on June 19 and runs through October; an artist reception and exhibit presentation was held on Saturday\, June 24\, 2023. \nMake plans to visit!  The museum is free and open to everyone! \n 
URL:https://aktalakota.stjo.org/event/opening-in-june/
LOCATION:SD
CATEGORIES:Exhibits
ATTACH;FMTTYPE=image/jpeg:https://aktalakota.stjo.org/wp-content/uploads/2023/06/Lewis-Clark-Map.jpg
ORGANIZER;CN="Akt%C3%A1 Lakota Museum":MAILTO:aktalakota@stjo.org
END:VEVENT
BEGIN:VEVENT
DTSTART;TZID=America/North_Dakota/Center:20230711T103000
DTEND;TZID=America/North_Dakota/Center:20230711T233000
DTSTAMP:20260422T140235
CREATED:20230605T203055Z
LAST-MODIFIED:20230605T203055Z
UID:6755-1689071400-1689118200@aktalakota.stjo.org
SUMMARY:STORY TIME WITH UŊČÍ & LALÁThe Pine Ridge Porcupine
DESCRIPTION:Story Time is offered every Tuesday at 10:30 AM CST. The program is geared toward elementary-age children but children young and old will enjoy stories read by elders of the Lakota and Dakota communities. \nToday our story is The Pine Ridge Porcupine written in 1942 by Ann Nolan Clark and illustrated by Andrew Standing Solider\, Oglala Lakota. \nAbout the story:  A charming bilingual story written in 1942 about the adventures of the Pine Ridge Porcupine. P.R. Porcupine grew up in a loving home with his mother and three siblings.  The P.R. learned at an early age that he was different from his three siblings.  He had aggressive behavior and was always looking for trouble.  His mother was proud of him but not so proud of his manners. With gentle guidance from his mother P.R. Porcupine learns to channel his gifts in efforts to help others. \nA cultural activity will follow the reading. The event is free and open to everyone – come join the fun! \nJuly Schedule
URL:https://aktalakota.stjo.org/event/story-time-with-unci-lalathe-pine-ridge-porcupine/
LOCATION:Aktá Lakota Museum\, St. Joseph's Indian School\, Chamberlain\, SD\, 57325\, United States
CATEGORIES:Storytime
ATTACH;FMTTYPE=image/jpeg:https://aktalakota.stjo.org/wp-content/uploads/2023/06/Pine-Ridge-Porcupine.jpg
ORGANIZER;CN="Akt%C3%A1 Lakota Museum":MAILTO:aktalakota@stjo.org
END:VEVENT
BEGIN:VEVENT
DTSTART;TZID=America/North_Dakota/Center:20230718T103000
DTEND;TZID=America/North_Dakota/Center:20230718T113000
DTSTAMP:20260422T140235
CREATED:20230605T203817Z
LAST-MODIFIED:20240531T130939Z
UID:6761-1689676200-1689679800@aktalakota.stjo.org
SUMMARY:STORY TIME WITH Uŋčí & LALÁThe First Fire
DESCRIPTION:Story Time is offered every Tuesday at 10:30 AM CST. The program is geared toward elementary-age children but children young and old will enjoy stories read by elders of the Lakota and Dakota communities. \nToday our story is The First Fire: A Cherokee Story written by Brad Wagnon and illustrated by Alex Stephenson. \nAbout the story:  The First Fire\, A Cherokee Story takes place in a time when animals could do many of the things that people do. The Creator gave the animals the world to live in\, but they were without a source of heat at night. Great Thunder and his sons saw the plight of the animals\, so he sent lightning down to strike a tree. The tree burst into flames but the tree was on an island. Many animals tried to bring the fire over the water to the shore\, but they were all unsuccessful. Then one small creature\, Water Spider\, volunteered. Curious\, the animals said to her “We know you could get there safely\, but how would you bring the fire back without getting burned?” Water Spider was successful and to this day the water spider is revered in Cherokee culture. \nA cultural activity will follow the reading. The event is free and open to everyone – come join the fun! \nJuly Schedule\n \n 
URL:https://aktalakota.stjo.org/event/story-time-with-unci-lalathe-first-fire/
LOCATION:Aktá Lakota Museum\, St. Joseph's Indian School\, Chamberlain\, SD\, 57325\, United States
CATEGORIES:Storytime
ATTACH;FMTTYPE=image/jpeg:https://aktalakota.stjo.org/wp-content/uploads/2023/06/The-First-Fire.jpg
ORGANIZER;CN="Akt%C3%A1 Lakota Museum":MAILTO:aktalakota@stjo.org
END:VEVENT
BEGIN:VEVENT
DTSTART;TZID=America/North_Dakota/Center:20230725T103000
DTEND;TZID=America/North_Dakota/Center:20230725T113000
DTSTAMP:20260422T140235
CREATED:20230605T205027Z
LAST-MODIFIED:20240531T131013Z
UID:6765-1690281000-1690284600@aktalakota.stjo.org
SUMMARY:STORY TIME WITH Uŋčí & LALÁMuskrat and Skunk
DESCRIPTION:Story Time is offered every Tuesday at 10:30 AM CST. The program is geared toward elementary-age children but children young and old will enjoy stories read by elders of the Lakota and Dakota communities. \nToday our story is Muskrat and Skunk / Siŋkpé na Maká: A Lakota Drum Story.  Told and illustrated by Donald F. Montiieaux; Lakota Translation by Agnes Gay. \nAbout the story:  THUMP! BOOM! BAM!  Animals stop and listen. A new sound is in the forest. The beat vibrates through the trees and across the meadows. What is it? Where is it coming from? \nMuskrat and Skunk thump on a hollow log—BOOM! BOOM! BOOM! Birds begin to dance. Buffalo and Antelope join in. There is a rustle in the bushes; a large shape emerges. The animals scatter. Muskrat and Skunk drum on. \nThe story of the drum connects the instrument’s sound to the heartbeat of Mother Earth—a beat inside all of us. For the Lakota people\, the drum is more than something to be played. Its rhythm is felt\, and it is central to many ceremonies. \nDonald F. Montileaux retells the origins of the drum\, using traditional stories that Lakota people still tell today. His colorful images breathe life into Muskrat and Skunk\, enhancing our understanding of the Lakota culture. \nA cultural activity will follow the reading. The event is free and open to everyone – come join the fun!
URL:https://aktalakota.stjo.org/event/story-time-with-unci-lalamuskrat-and-skunk/
LOCATION:Aktá Lakota Museum\, St. Joseph's Indian School\, Chamberlain\, SD\, 57325\, United States
CATEGORIES:Storytime
ATTACH;FMTTYPE=image/jpeg:https://aktalakota.stjo.org/wp-content/uploads/2023/06/99483174.jpg
ORGANIZER;CN="Akt%C3%A1 Lakota Museum":MAILTO:aktalakota@stjo.org
END:VEVENT
END:VCALENDAR