BEGIN:VCALENDAR
VERSION:2.0
PRODID:-//Aktá Lakota Museum &amp; Cultural Center - ECPv6.15.20//NONSGML v1.0//EN
CALSCALE:GREGORIAN
METHOD:PUBLISH
X-ORIGINAL-URL:https://aktalakota.stjo.org
X-WR-CALDESC:Events for Aktá Lakota Museum &amp; Cultural Center
REFRESH-INTERVAL;VALUE=DURATION:PT1H
X-Robots-Tag:noindex
X-PUBLISHED-TTL:PT1H
BEGIN:VTIMEZONE
TZID:America/North_Dakota/Center
BEGIN:DAYLIGHT
TZOFFSETFROM:-0600
TZOFFSETTO:-0500
TZNAME:CDT
DTSTART:20240310T080000
END:DAYLIGHT
BEGIN:STANDARD
TZOFFSETFROM:-0500
TZOFFSETTO:-0600
TZNAME:CST
DTSTART:20241103T070000
END:STANDARD
BEGIN:DAYLIGHT
TZOFFSETFROM:-0600
TZOFFSETTO:-0500
TZNAME:CDT
DTSTART:20250309T080000
END:DAYLIGHT
BEGIN:STANDARD
TZOFFSETFROM:-0500
TZOFFSETTO:-0600
TZNAME:CST
DTSTART:20251102T070000
END:STANDARD
BEGIN:DAYLIGHT
TZOFFSETFROM:-0600
TZOFFSETTO:-0500
TZNAME:CDT
DTSTART:20260308T080000
END:DAYLIGHT
BEGIN:STANDARD
TZOFFSETFROM:-0500
TZOFFSETTO:-0600
TZNAME:CST
DTSTART:20261101T070000
END:STANDARD
END:VTIMEZONE
BEGIN:VEVENT
DTSTART;TZID=America/North_Dakota/Center:20250617T103000
DTEND;TZID=America/North_Dakota/Center:20250617T113000
DTSTAMP:20260424T191114
CREATED:20250520T155812Z
LAST-MODIFIED:20250520T155913Z
UID:25833887-1750156200-1750159800@aktalakota.stjo.org
SUMMARY:Story Time with Uŋčí & Lalá
DESCRIPTION:📖 STORY TIME WITH UŊČÍ & LALÁ🗓️ June 17 | 🕥 10:30 AM | 📍 Museum Bookstore | 🎟️ Free Admission \nJoin us for a special reading of The Land of the Great Turtles by Brad Wagnon\, illustrated by Alex Stephenson! \n🌿 In this Cherokee origin story\, the Creator gifts the people a beautiful island — with one important rule: care for the land and its creatures. But when the children choose play over responsibility\, the balance begins to shift… \n✨ Told in both Cherokee and English\, this story gently introduces Cherokee values and language\, including the Cherokee syllabary. \nAll ages welcome — especially young learners! Come for the story\, stay for the culture and connection. \nStory Time with Uŋčí and Lalá
URL:https://aktalakota.stjo.org/event/story-time-with-unci-lala-3/
LOCATION:Aktá Lakota Museum\, St. Joseph's Indian School\, Chamberlain\, SD\, 57325\, United States
CATEGORIES:Storytime
ATTACH;FMTTYPE=image/jpeg:https://aktalakota.stjo.org/wp-content/uploads/2025/05/99488855_The-Land-of-the-Great-Turtles.jpg
ORGANIZER;CN="Akt%C3%A1 Lakota Museum":MAILTO:aktalakota@stjo.org
END:VEVENT
END:VCALENDAR