BEGIN:VCALENDAR
VERSION:2.0
PRODID:-//Aktá Lakota Museum &amp; Cultural Center - ECPv6.15.20//NONSGML v1.0//EN
CALSCALE:GREGORIAN
METHOD:PUBLISH
X-ORIGINAL-URL:https://aktalakota.stjo.org
X-WR-CALDESC:Events for Aktá Lakota Museum &amp; Cultural Center
REFRESH-INTERVAL;VALUE=DURATION:PT1H
X-Robots-Tag:noindex
X-PUBLISHED-TTL:PT1H
BEGIN:VTIMEZONE
TZID:America/North_Dakota/Center
BEGIN:DAYLIGHT
TZOFFSETFROM:-0600
TZOFFSETTO:-0500
TZNAME:CDT
DTSTART:20240310T080000
END:DAYLIGHT
BEGIN:STANDARD
TZOFFSETFROM:-0500
TZOFFSETTO:-0600
TZNAME:CST
DTSTART:20241103T070000
END:STANDARD
BEGIN:DAYLIGHT
TZOFFSETFROM:-0600
TZOFFSETTO:-0500
TZNAME:CDT
DTSTART:20250309T080000
END:DAYLIGHT
BEGIN:STANDARD
TZOFFSETFROM:-0500
TZOFFSETTO:-0600
TZNAME:CST
DTSTART:20251102T070000
END:STANDARD
BEGIN:DAYLIGHT
TZOFFSETFROM:-0600
TZOFFSETTO:-0500
TZNAME:CDT
DTSTART:20260308T080000
END:DAYLIGHT
BEGIN:STANDARD
TZOFFSETFROM:-0500
TZOFFSETTO:-0600
TZNAME:CST
DTSTART:20261101T070000
END:STANDARD
END:VTIMEZONE
BEGIN:VEVENT
DTSTART;TZID=America/North_Dakota/Center:20250603T103000
DTEND;TZID=America/North_Dakota/Center:20250603T113000
DTSTAMP:20260424T084721
CREATED:20250515T182344Z
LAST-MODIFIED:20250520T160211Z
UID:25833868-1748946600-1748950200@aktalakota.stjo.org
SUMMARY:STORY TIME WITH Uŋčí & LALÁ
DESCRIPTION:📚 Story Time with Uŋčí & Lalá🗓 June 3 | 10:30 AM CDT \nJoin us for Story Time at 10:30 AM CDT! While designed for elementary-age children\, stories read by elders from the Lakota and Dakota communities captivate kids of all ages. Take part in a hands-on cultural activity following the reading! \n✨ Featured Reading:Fry Bread: A Native American Family StoryWritten by Kevin Noble MaillardIllustrated by Juana Martinez-Neal \n🏅 2020 Robert F. Sibert Informational Book Medal Winner🏅 2020 American Indian Youth Literature Honor Winner \nTold in vibrant\, lyrical verse\, Fry Bread celebrates the warmth\, resilience\, and rich culture of a modern Native American family. A heartfelt story perfect for all ages! \nCome connect with tradition\, culture\, and community through the magic of storytelling. We can’t wait to see you there! \nStory Time with Uŋčí and Lalá
URL:https://aktalakota.stjo.org/event/story-time-with-unci-lala-fry-bread-a-native-american-family-story/
LOCATION:Aktá Lakota Museum\, St. Joseph's Indian School\, Chamberlain\, SD\, 57325\, United States
CATEGORIES:Storytime
ATTACH;FMTTYPE=image/jpeg:https://aktalakota.stjo.org/wp-content/uploads/2025/05/99485721_Fry-Bread.jpg
ORGANIZER;CN="Akt%C3%A1 Lakota Museum":MAILTO:aktalakota@stjo.org
END:VEVENT
END:VCALENDAR