BEGIN:VCALENDAR
VERSION:2.0
PRODID:-//Aktá Lakota Museum &amp; Cultural Center - ECPv6.15.20//NONSGML v1.0//EN
CALSCALE:GREGORIAN
METHOD:PUBLISH
X-ORIGINAL-URL:https://aktalakota.stjo.org
X-WR-CALDESC:Events for Aktá Lakota Museum &amp; Cultural Center
REFRESH-INTERVAL;VALUE=DURATION:PT1H
X-Robots-Tag:noindex
X-PUBLISHED-TTL:PT1H
BEGIN:VTIMEZONE
TZID:America/North_Dakota/Center
BEGIN:DAYLIGHT
TZOFFSETFROM:-0600
TZOFFSETTO:-0500
TZNAME:CDT
DTSTART:20230312T080000
END:DAYLIGHT
BEGIN:STANDARD
TZOFFSETFROM:-0500
TZOFFSETTO:-0600
TZNAME:CST
DTSTART:20231105T070000
END:STANDARD
BEGIN:DAYLIGHT
TZOFFSETFROM:-0600
TZOFFSETTO:-0500
TZNAME:CDT
DTSTART:20240310T080000
END:DAYLIGHT
BEGIN:STANDARD
TZOFFSETFROM:-0500
TZOFFSETTO:-0600
TZNAME:CST
DTSTART:20241103T070000
END:STANDARD
BEGIN:DAYLIGHT
TZOFFSETFROM:-0600
TZOFFSETTO:-0500
TZNAME:CDT
DTSTART:20250309T080000
END:DAYLIGHT
BEGIN:STANDARD
TZOFFSETFROM:-0500
TZOFFSETTO:-0600
TZNAME:CST
DTSTART:20251102T070000
END:STANDARD
END:VTIMEZONE
BEGIN:VEVENT
DTSTART;TZID=America/North_Dakota/Center:20240730T103000
DTEND;TZID=America/North_Dakota/Center:20240730T113000
DTSTAMP:20260423T000323
CREATED:20240625T161030Z
LAST-MODIFIED:20240625T161030Z
UID:7547-1722335400-1722339000@aktalakota.stjo.org
SUMMARY:STORY TIME WITH UŊČÍ & LALÁJosie Dances
DESCRIPTION:Join us for Story Time every Tuesday at 10:30 AM CDT. While the program is designed for elementary-age children\, stories read by elders from the Lakota and Dakota communities will be captivating for children of all ages. \nToday our story is Josie Dances\, written by Denise Lajimodiere\, illustrated by Angela Erdrich and published by the Minnesota Historical Society Press; (May 2021). \nAbout the story: Josie dreams of dancing at next summer’s powwow. But first she needs many special things: a dress\, a shawl\, a cape\, leggings\, moccasins\, and\, perhaps most important of all\, her spirit’s name. To gather all these essential pieces\, she calls on her mom\, her aunty\, her kookum\, and Grandma Greatwalker. They have the skills to prepare Josie for her powwow debut. \nAs the months go by\, Josie practices her dance steps while Mom stitches\, Aunty and Kookum bead\, and Grandma Greatwalker dreams Josie’s spirit name. Josie is nervous about her performance in the arena and about all the pieces falling into place\, but she knows her family is there to support her. \nThe powwow circle is a welcoming space\, and dancers and spectators alike celebrate Josie’s first dance. When she receives her name\, she knows it’s just right. Wrapped in the love of her community\, Josie dances to honor her ancestors. \nIn this Ojibwe girl’s coming-of-age story\, Denise Lajimodiere highlights her own daughter’s experience at powwow. Elegant artwork by Angela Erdrich features not only Josie and her family but also the animals and seasons and heartbeat of Aki\, Mother Earth\, and the traditions that link Josie to generations past and yet to come. \nA cultural activity will follow the reading. The event is free and open to everyone – join the fun!
URL:https://aktalakota.stjo.org/event/story-time-with-unci-lalajosie-dances/
LOCATION:Aktá Lakota Museum\, St. Joseph's Indian School\, Chamberlain\, SD\, 57325\, United States
CATEGORIES:Storytime
ATTACH;FMTTYPE=image/jpeg:https://aktalakota.stjo.org/wp-content/uploads/2024/06/99487179.jpg
ORGANIZER;CN="Akt%C3%A1 Lakota Museum":MAILTO:aktalakota@stjo.org
END:VEVENT
END:VCALENDAR