BEGIN:VCALENDAR
VERSION:2.0
PRODID:-//Aktá Lakota Museum &amp; Cultural Center - ECPv6.15.20//NONSGML v1.0//EN
CALSCALE:GREGORIAN
METHOD:PUBLISH
X-ORIGINAL-URL:https://aktalakota.stjo.org
X-WR-CALDESC:Events for Aktá Lakota Museum &amp; Cultural Center
REFRESH-INTERVAL;VALUE=DURATION:PT1H
X-Robots-Tag:noindex
X-PUBLISHED-TTL:PT1H
BEGIN:VTIMEZONE
TZID:America/North_Dakota/Center
BEGIN:DAYLIGHT
TZOFFSETFROM:-0600
TZOFFSETTO:-0500
TZNAME:CDT
DTSTART:20230312T080000
END:DAYLIGHT
BEGIN:STANDARD
TZOFFSETFROM:-0500
TZOFFSETTO:-0600
TZNAME:CST
DTSTART:20231105T070000
END:STANDARD
BEGIN:DAYLIGHT
TZOFFSETFROM:-0600
TZOFFSETTO:-0500
TZNAME:CDT
DTSTART:20240310T080000
END:DAYLIGHT
BEGIN:STANDARD
TZOFFSETFROM:-0500
TZOFFSETTO:-0600
TZNAME:CST
DTSTART:20241103T070000
END:STANDARD
BEGIN:DAYLIGHT
TZOFFSETFROM:-0600
TZOFFSETTO:-0500
TZNAME:CDT
DTSTART:20250309T080000
END:DAYLIGHT
BEGIN:STANDARD
TZOFFSETFROM:-0500
TZOFFSETTO:-0600
TZNAME:CST
DTSTART:20251102T070000
END:STANDARD
END:VTIMEZONE
BEGIN:VEVENT
DTSTART;TZID=America/North_Dakota/Center:20240723T103000
DTEND;TZID=America/North_Dakota/Center:20240723T113000
DTSTAMP:20260422T111845
CREATED:20240625T145603Z
LAST-MODIFIED:20240625T160528Z
UID:7543-1721730600-1721734200@aktalakota.stjo.org
SUMMARY:STORY TIME WITH UŊČÍ & LALÁFather Eagle & The Hunter
DESCRIPTION:Join us for Story Time every Tuesday at 10:30 AM CDT. While the program is designed for elementary-age children\, stories read by elders from the Lakota and Dakota communities will be captivating for children of all ages. \nToday our story is Father Eagle and The Hunter\, written and illustrated by Alfreda Beartack-Algeo\, Published by 7th Generation (May 2023). \nAbout the story:  The hunter was tired of only finding berries and seeds to feed his hungry village\, so he decided to look far and wide for some meat to bring to them. When he spotted a tall tree\, he climbed to the top and discovered a nest with three eaglets. “What a tasty soup the three little birds will make!” thought the hunter. \nHearing the warning cries of the eaglets\, Father Eagle flew to their rescue. Father Eagle told the hunter that if he did not take the eaglets\, he would ask the Great Spirit to help the village. The hunter decided to trust Father Eagle and watched him soar high into the sky. Father Eagle returned and told the hunter that the Great Spirit would help his people and would not let his village perish.  From that day forward\, the game was plentiful\, the people flourished\, and the Eagle was forever respected and honored. \nA cultural activity will follow the reading. The event is free and open to everyone – join the fun!
URL:https://aktalakota.stjo.org/event/story-time-with-unci-lalafather-eagle-the-hunter/
LOCATION:Aktá Lakota Museum\, St. Joseph's Indian School\, Chamberlain\, SD\, 57325\, United States
CATEGORIES:Storytime
ATTACH;FMTTYPE=image/jpeg:https://aktalakota.stjo.org/wp-content/uploads/2024/06/99487937.jpg
ORGANIZER;CN="Akt%C3%A1 Lakota Museum":MAILTO:aktalakota@stjo.org
END:VEVENT
END:VCALENDAR