BEGIN:VCALENDAR
VERSION:2.0
PRODID:-//Aktá Lakota Museum &amp; Cultural Center - ECPv6.15.20//NONSGML v1.0//EN
CALSCALE:GREGORIAN
METHOD:PUBLISH
X-WR-CALNAME:Aktá Lakota Museum &amp; Cultural Center
X-ORIGINAL-URL:https://aktalakota.stjo.org
X-WR-CALDESC:Events for Aktá Lakota Museum &amp; Cultural Center
REFRESH-INTERVAL;VALUE=DURATION:PT1H
X-Robots-Tag:noindex
X-PUBLISHED-TTL:PT1H
BEGIN:VTIMEZONE
TZID:America/North_Dakota/Center
BEGIN:DAYLIGHT
TZOFFSETFROM:-0600
TZOFFSETTO:-0500
TZNAME:CDT
DTSTART:20230312T080000
END:DAYLIGHT
BEGIN:STANDARD
TZOFFSETFROM:-0500
TZOFFSETTO:-0600
TZNAME:CST
DTSTART:20231105T070000
END:STANDARD
BEGIN:DAYLIGHT
TZOFFSETFROM:-0600
TZOFFSETTO:-0500
TZNAME:CDT
DTSTART:20240310T080000
END:DAYLIGHT
BEGIN:STANDARD
TZOFFSETFROM:-0500
TZOFFSETTO:-0600
TZNAME:CST
DTSTART:20241103T070000
END:STANDARD
BEGIN:DAYLIGHT
TZOFFSETFROM:-0600
TZOFFSETTO:-0500
TZNAME:CDT
DTSTART:20250309T080000
END:DAYLIGHT
BEGIN:STANDARD
TZOFFSETFROM:-0500
TZOFFSETTO:-0600
TZNAME:CST
DTSTART:20251102T070000
END:STANDARD
END:VTIMEZONE
BEGIN:VEVENT
DTSTART;TZID=America/North_Dakota/Center:20240611T103000
DTEND;TZID=America/North_Dakota/Center:20240611T113000
DTSTAMP:20260422T045052
CREATED:20240514T174745Z
LAST-MODIFIED:20240531T150520Z
UID:7452-1718101800-1718105400@aktalakota.stjo.org
SUMMARY:STORY TIME WITH Uŋčí & LALÁTatanka and the Lakota People
DESCRIPTION:Join us for Story Time every Tuesday at 10:30 AM CDT. While the program is designed for elementary-age children\, stories read by elders from the Lakota and Dakota communities will be captivating for children of all ages. \nToday our story is A Creation Story: Tatanka and the Lakota People.  Illustrated by Donald F. Montileaux\, Lakota.  Published by the South Dakota State Historical Society; Bilingual edition. (May 2009) \nAbout the story:  Tatanka and the Lakota People is part of the Lakota creation legend and is based on centuries of storytelling.  The story tells how the buffalo came to live with the Lakotas so that they would have life-sustaining food\, shelter\, and clothing. \nPresented in Lakota as well as in English\, the book describes the Lakota’s creation\, the trickery that caused them to move from the Underworld\, and their ultimate survival in this world. Its dynamic color illustrations by Lakota artist Donald F. Montileaux are full of familiar characters\, including not only Tatanka the Holy Man but also the Great Spirits and Iktomi the Spider. Together\, the words and pictures capture the imagination of children and the interest of adults. \nA cultural activity will follow the reading. The event is free and open to everyone – join the fun!
URL:https://aktalakota.stjo.org/event/story-time-with-uncl-lalatatanka-and-the-lakota-people/
LOCATION:Aktá Lakota Museum\, St. Joseph's Indian School\, Chamberlain\, SD\, 57325\, United States
CATEGORIES:Storytime
ATTACH;FMTTYPE=image/jpeg:https://aktalakota.stjo.org/wp-content/uploads/2024/05/Tatanka_Lakota_People.jpg
ORGANIZER;CN="Akt%C3%A1 Lakota Museum":MAILTO:aktalakota@stjo.org
END:VEVENT
END:VCALENDAR