BEGIN:VCALENDAR
VERSION:2.0
PRODID:-//Aktá Lakota Museum &amp; Cultural Center - ECPv6.15.20//NONSGML v1.0//EN
CALSCALE:GREGORIAN
METHOD:PUBLISH
X-WR-CALNAME:Aktá Lakota Museum &amp; Cultural Center
X-ORIGINAL-URL:https://aktalakota.stjo.org
X-WR-CALDESC:Events for Aktá Lakota Museum &amp; Cultural Center
REFRESH-INTERVAL;VALUE=DURATION:PT1H
X-Robots-Tag:noindex
X-PUBLISHED-TTL:PT1H
BEGIN:VTIMEZONE
TZID:America/North_Dakota/Center
BEGIN:DAYLIGHT
TZOFFSETFROM:-0600
TZOFFSETTO:-0500
TZNAME:CDT
DTSTART:20210314T080000
END:DAYLIGHT
BEGIN:STANDARD
TZOFFSETFROM:-0500
TZOFFSETTO:-0600
TZNAME:CST
DTSTART:20211107T070000
END:STANDARD
BEGIN:DAYLIGHT
TZOFFSETFROM:-0600
TZOFFSETTO:-0500
TZNAME:CDT
DTSTART:20220313T080000
END:DAYLIGHT
BEGIN:STANDARD
TZOFFSETFROM:-0500
TZOFFSETTO:-0600
TZNAME:CST
DTSTART:20221106T070000
END:STANDARD
BEGIN:DAYLIGHT
TZOFFSETFROM:-0600
TZOFFSETTO:-0500
TZNAME:CDT
DTSTART:20230312T080000
END:DAYLIGHT
BEGIN:STANDARD
TZOFFSETFROM:-0500
TZOFFSETTO:-0600
TZNAME:CST
DTSTART:20231105T070000
END:STANDARD
END:VTIMEZONE
BEGIN:VEVENT
DTSTART;TZID=America/North_Dakota/Center:20220815T140000
DTEND;TZID=America/North_Dakota/Center:20220815T160000
DTSTAMP:20260420T082006
CREATED:20220622T200718Z
LAST-MODIFIED:20220622T204502Z
UID:6202-1660572000-1660579200@aktalakota.stjo.org
SUMMARY:MUSEUM MONDAY — JACE DECORYLAKOTA THOUGHTS ON EQUITY & ENVIRONMENTAL EDUCATION
DESCRIPTION:Jace DeCory presents the topic of Lakota thought and philosophy regarding the outlook on cultural values and the environment\, including climate change\, sacred Lakota sites\, and environmental justice.  DeCory’s presentation weaves these issues into a discussion of the concept of wólakota — being in balance with the world around us — physically\, mentally\, emotionally\, and spiritually. \nAbout the presenter:  Jace DeCory is a Professor Emeritus in American Indian Studies\, College of Liberal Arts\, Black Hills State University\, in Spearfish\, SD. She is a Lakota elder from the Oceti Sakowin Oyate (Seven Council Fires Nation) and an enrolled member of the Cheyenne River Sioux Tribe.  She resides in the sacred He Sapa/Paha Sapa/Black Hills in Spearfish\, South Dakota. \nMuseum Monday is a free program that provides educational presentations in history\, literature\, philosophy\, anthropology\, and other humanities disciplines.  The programs are geared toward teen and adult audiences but people of all ages are welcome to attend. \nPresentations are free and held every Monday in July and August in the Museum Theater area.\nRegistration is recommended for large groups.\nNo food or drink allowed.\nService pets welcome.\nFor more information call 800.798.3452 or email aktalakota@stjo.org  \nProgramming for Museum Monday is sponsored in part by the South Dakota Humanities Council. 
URL:https://aktalakota.stjo.org/event/museum-monday-jace-decory-lakota-thoughts-on-equity-environmental-education/
LOCATION:Aktá Lakota Museum\, St. Joseph's Indian School\, Chamberlain\, SD\, 57325\, United States
CATEGORIES:Museum Monday
ATTACH;FMTTYPE=image/jpeg:https://aktalakota.stjo.org/wp-content/uploads/2022/06/Jace-DeCory_2022.jpg
END:VEVENT
BEGIN:VEVENT
DTSTART;TZID=America/North_Dakota/Center:20220808T140000
DTEND;TZID=America/North_Dakota/Center:20220808T160000
DTSTAMP:20260420T082006
CREATED:20220628T201317Z
LAST-MODIFIED:20220628T202458Z
UID:6218-1659967200-1659974400@aktalakota.stjo.org
SUMMARY:MUSEUM MONDAYGeraldine Goes In CenterHistory of Lakota Food & Diet
DESCRIPTION:Jerry Goes In Center presents the history of the diet of Lakota people\, covering pre-reservation\, early reservation\, and present time. The presentation includes information on the types of food Lakota people consumed and how foods were preserved and prepared. \nAbout the Presenter:  Geraldine (Jerry) Goes In Center\, Oglala Lakota\, and Great-granddaughter of William Lip (Pute)\, Headman of Lip’s Camp (Pute) Tiospaye (Wamblee SD). \nJerry served eight years in the US Army (Vietnam Era veteran)\, five years National Guard and earned a BS in Human Service and a minor in counseling from Oglala Lakota College. She is a published writer and entrepreneur and has self-published four booklets: “Jokes Heard around the Rez”\, “Lakota Recipes”\, “Sacred Pipe” and “Lakota Baby Naming Book.” \nSemi-retired from being self-employed she has been providing buffalo wasna to the Dialysis Centers on the Pine Ridge Reservation. Geraldine currently resides in Rapid City SD. \nMuseum Monday is a free program that provides educational presentations in history\, literature\, philosophy\, anthropology\, and other humanities disciplines.  The programs are geared toward teen and adult audiences but people of all ages are welcome to attend. \nPresentations are free and held every Monday in July and August in the Museum Theater area.\nRegistration is recommended for large groups.\nNo food or drink allowed.\nService pets welcome.\nFor more information call 800.798.3452 or email aktalakota@stjo.org  \nProgramming for Museum Monday is sponsored in part by the South Dakota Humanities Council. 
URL:https://aktalakota.stjo.org/event/museum-mondaygeraldine-goes-in-centerhistory-of-lakota-food-diet/
LOCATION:Aktá Lakota Museum\, St. Joseph's Indian School\, Chamberlain\, SD\, 57325\, United States
CATEGORIES:Museum Monday
ATTACH;FMTTYPE=image/jpeg:https://aktalakota.stjo.org/wp-content/uploads/2022/06/Geraldine-Goes-In-Center.jpg
END:VEVENT
BEGIN:VEVENT
DTSTART;TZID=America/North_Dakota/Center:20220801T140000
DTEND;TZID=America/North_Dakota/Center:20220801T160000
DTSTAMP:20260420T082006
CREATED:20220630T135554Z
LAST-MODIFIED:20220701T165241Z
UID:6227-1659362400-1659369600@aktalakota.stjo.org
SUMMARY:MUSEUM MONDAY — Robyn KnechtEquine Therapy — Meet Our Horses
DESCRIPTION:To the Lakota\, a šúŋkawakȟán — horse — is a relative. A four-legged friend and companion that provided transportation\, friendship\, and pride. The horse is revered for its grace and bravery. \nToday\, many Lakota people still look to the horse to provide healing from trauma\, anxiety\, and mental and emotional distress\, among others. \nHealing from internal or external wounds was the purpose behind launching the equine therapy program at St. Joseph’s Indian School. \nNow in the program’s second year\, it continues to grow. Last year\, horses had to be transported to and from campus for therapy sessions. Now\, horses live on the north end of campus\, creating the opportunity for more students to take part in the equine therapy sessions. \nIn this presentation\, Robyn Knetch\, Director of Counseling & Service at St. Joseph’s Indian School\, and Patty Coleman\, Equine Specialist Caretaker will talk about the importance of equine therapy in the lives of our children.  Participants will also be invited to tour our future horse barn complex site.
URL:https://aktalakota.stjo.org/event/museum-monday-robyn-knechtequine-therapy-meet-our-horses/
LOCATION:Aktá Lakota Museum\, St. Joseph's Indian School\, Chamberlain\, SD\, 57325\, United States
CATEGORIES:Museum Monday
ATTACH;FMTTYPE=image/jpeg:https://aktalakota.stjo.org/wp-content/uploads/2022/06/SJIS-Equine-Therapy.jpg
END:VEVENT
BEGIN:VEVENT
DTSTART;TZID=America/North_Dakota/Center:20220725T140000
DTEND;TZID=America/North_Dakota/Center:20220725T160000
DTSTAMP:20260420T082006
CREATED:20220620T205531Z
LAST-MODIFIED:20220622T204629Z
UID:6188-1658757600-1658764800@aktalakota.stjo.org
SUMMARY:Museum MondayAlfreda Beartrack-AlgeoLakota Author\, Storyteller\, Artist
DESCRIPTION:Alfreda Beartrack-Algeo\, Lakota author\, storyteller\, poet\, artist\, and illustrator uses various art forms as a means to tell her stories.  Alfreda will read her first published children’s book The Day The Earth Rose Up based on her version of how the Pleiades\, the Seven Sisters star formation came to be. \nAlfreda says\, “It is a very sensitive and beautiful experience to be a storyteller. There is a story in everything I create\, from the smallest rock to the mightiest mountain. With every character born\, and every story shared\, I add a piece of my spirit to this great matrix of life. As long as I have a story left to tell\, I feel I have a responsibility to gift that story forward.”  A book signing will follow the presentation. \nAbout the presenter:  Alfreda Beartrack-Algeo\, a storyteller and poet\, artist\, and illustrator\, is a member of the Lower Brule Lakota Nation\, Kul Wicasa Oyate\, in Lower Brule\, South Dakota\, where she grew up. Her involvement in fine art began at an early age\, with direct influence from her father\, Alfred Ziegler\, a noteworthy artist who has inspired her work in sculpture\, painting\, and drawing throughout her life. \nMuseum Monday is a free program that provides educational presentations in history\, literature\, philosophy\, anthropology\, and other humanities disciplines.  The programs are geared toward teen and adult audiences but people of all ages are welcome to attend. \nPresentations are free and held every Monday in July and August in the Museum Theater area.\nRegistration is recommended for large groups.\nNo food or drink allowed.\nService pets welcome.\nFor more information call 800.798.3452 or email aktalakota@stjo.org 
URL:https://aktalakota.stjo.org/event/museum-mondayalfreda-beartrack-algeolakota-author-storyteller-and-artist/
LOCATION:Aktá Lakota Museum\, St. Joseph's Indian School\, Chamberlain\, SD\, 57325\, United States
CATEGORIES:Museum Monday
ATTACH;FMTTYPE=image/jpeg:https://aktalakota.stjo.org/wp-content/uploads/2022/06/AlfredaBeartrackAlgeo-jpg.jpg
END:VEVENT
BEGIN:VEVENT
DTSTART;TZID=America/North_Dakota/Center:20220711T140000
DTEND;TZID=America/North_Dakota/Center:20220711T160000
DTSTAMP:20260420T082006
CREATED:20220526T185248Z
LAST-MODIFIED:20220622T204822Z
UID:5934-1657548000-1657555200@aktalakota.stjo.org
SUMMARY:Museum Monday — Vera K. BoydJourney Into the Past
DESCRIPTION:Journey into the Past with Vera K. Boyd introduces audiences to the First Nations people who made their homes in southeastern South Dakota – Omaha\, Ponca\, and Ioway – and discusses their traditional way of life. Farming techniques and crops are reviewed; artifacts\, sample trade items\, replicas of a dog travois\, tools\, and pottery are discussed and exhibited. \nMuseum Monday is a free program that provides educational presentations in history\, literature\, philosophy\, anthropology\, and other humanities disciplines.  The programs are geared toward teen and adult audiences but people of all ages are welcome to attend.  \nPresentations are free and held every Monday in July and August in the Museum Theater area.Registration is recommended for large groups.No food or drink allowed.Service pets welcome.For more information call 800.798.3452 or email aktalakota@stjo.org  \nProgramming for Museum Monday is sponsored in part by the South Dakota Humanities Council.   \n 
URL:https://aktalakota.stjo.org/event/museum-monday-journey-into-the-past/
LOCATION:Aktá Lakota Museum\, St. Joseph's Indian School\, Chamberlain\, SD\, 57325\, United States
CATEGORIES:Museum Monday
ATTACH;FMTTYPE=image/jpeg:https://aktalakota.stjo.org/wp-content/uploads/2022/05/VernaKBoyd.jpg
END:VEVENT
END:VCALENDAR