BEGIN:VCALENDAR
VERSION:2.0
PRODID:-//Aktá Lakota Museum &amp; Cultural Center - ECPv6.15.20//NONSGML v1.0//EN
CALSCALE:GREGORIAN
METHOD:PUBLISH
X-ORIGINAL-URL:https://aktalakota.stjo.org
X-WR-CALDESC:Events for Aktá Lakota Museum &amp; Cultural Center
REFRESH-INTERVAL;VALUE=DURATION:PT1H
X-Robots-Tag:noindex
X-PUBLISHED-TTL:PT1H
BEGIN:VTIMEZONE
TZID:America/North_Dakota/Center
BEGIN:DAYLIGHT
TZOFFSETFROM:-0600
TZOFFSETTO:-0500
TZNAME:CDT
DTSTART:20240310T080000
END:DAYLIGHT
BEGIN:STANDARD
TZOFFSETFROM:-0500
TZOFFSETTO:-0600
TZNAME:CST
DTSTART:20241103T070000
END:STANDARD
BEGIN:DAYLIGHT
TZOFFSETFROM:-0600
TZOFFSETTO:-0500
TZNAME:CDT
DTSTART:20250309T080000
END:DAYLIGHT
BEGIN:STANDARD
TZOFFSETFROM:-0500
TZOFFSETTO:-0600
TZNAME:CST
DTSTART:20251102T070000
END:STANDARD
BEGIN:DAYLIGHT
TZOFFSETFROM:-0600
TZOFFSETTO:-0500
TZNAME:CDT
DTSTART:20260308T080000
END:DAYLIGHT
BEGIN:STANDARD
TZOFFSETFROM:-0500
TZOFFSETTO:-0600
TZNAME:CST
DTSTART:20261101T070000
END:STANDARD
END:VTIMEZONE
BEGIN:VEVENT
DTSTART;VALUE=DATE:20250303
DTEND;VALUE=DATE:20250401
DTSTAMP:20260422T170456
CREATED:20241031T132501Z
LAST-MODIFIED:20250312T185857Z
UID:7714-1740960000-1743465599@aktalakota.stjo.org
SUMMARY:St. Joseph’s Student Art Exhibit
DESCRIPTION:In honor of National Youth Art Month in March\, St. Joseph’s Indian School students are being recognized through a Student Art Show and Sale hosted by the Aktá Lakota Museum. \nThe exhibition aims to highlight the importance of art education for all children and advocate for the support of quality school and community art programs. It provides St. Joseph’s students with the opportunity to exhibit their artwork in a gallery setting. \nParticipation in the Youth Art Show and Sale provides students with a chance to showcase their creativity and talent to a wider audience. During the exhibition\, visitors have the opportunity to purchase artwork directly from the student artists\, with 100% of the proceeds going to the student. \nThe exhibition is currently open in Historical Center Gallery and will continue until April 1st.
URL:https://aktalakota.stjo.org/event/st-josephs-student-art-exhibit/
LOCATION:Aktá Lakota Museum\, St. Joseph's Indian School\, Chamberlain\, SD\, 57325\, United States
CATEGORIES:Exhibits,Going on now!
ATTACH;FMTTYPE=image/png:https://aktalakota.stjo.org/wp-content/uploads/2024/10/2025-ALM-Student-Art-Show-FB-Post.png
ORGANIZER;CN="Akt%C3%A1 Lakota Museum":MAILTO:aktalakota@stjo.org
END:VEVENT
END:VCALENDAR