BEGIN:VCALENDAR
VERSION:2.0
PRODID:-//Aktá Lakota Museum &amp; Cultural Center - ECPv6.15.20//NONSGML v1.0//EN
CALSCALE:GREGORIAN
METHOD:PUBLISH
X-WR-CALNAME:Aktá Lakota Museum &amp; Cultural Center
X-ORIGINAL-URL:https://aktalakota.stjo.org
X-WR-CALDESC:Events for Aktá Lakota Museum &amp; Cultural Center
REFRESH-INTERVAL;VALUE=DURATION:PT1H
X-Robots-Tag:noindex
X-PUBLISHED-TTL:PT1H
BEGIN:VTIMEZONE
TZID:America/North_Dakota/Center
BEGIN:DAYLIGHT
TZOFFSETFROM:-0600
TZOFFSETTO:-0500
TZNAME:CDT
DTSTART:20230312T080000
END:DAYLIGHT
BEGIN:STANDARD
TZOFFSETFROM:-0500
TZOFFSETTO:-0600
TZNAME:CST
DTSTART:20231105T070000
END:STANDARD
BEGIN:DAYLIGHT
TZOFFSETFROM:-0600
TZOFFSETTO:-0500
TZNAME:CDT
DTSTART:20240310T080000
END:DAYLIGHT
BEGIN:STANDARD
TZOFFSETFROM:-0500
TZOFFSETTO:-0600
TZNAME:CST
DTSTART:20241103T070000
END:STANDARD
BEGIN:DAYLIGHT
TZOFFSETFROM:-0600
TZOFFSETTO:-0500
TZNAME:CDT
DTSTART:20250309T080000
END:DAYLIGHT
BEGIN:STANDARD
TZOFFSETFROM:-0500
TZOFFSETTO:-0600
TZNAME:CST
DTSTART:20251102T070000
END:STANDARD
BEGIN:DAYLIGHT
TZOFFSETFROM:-0600
TZOFFSETTO:-0500
TZNAME:CDT
DTSTART:20260308T080000
END:DAYLIGHT
BEGIN:STANDARD
TZOFFSETFROM:-0500
TZOFFSETTO:-0600
TZNAME:CST
DTSTART:20261101T070000
END:STANDARD
BEGIN:DAYLIGHT
TZOFFSETFROM:-0600
TZOFFSETTO:-0500
TZNAME:CDT
DTSTART:20270314T080000
END:DAYLIGHT
BEGIN:STANDARD
TZOFFSETFROM:-0500
TZOFFSETTO:-0600
TZNAME:CST
DTSTART:20271107T070000
END:STANDARD
END:VTIMEZONE
BEGIN:VEVENT
DTSTART;TZID=America/North_Dakota/Center:20241202T080000
DTEND;TZID=America/North_Dakota/Center:20250701T180000
DTSTAMP:20260421T145539
CREATED:20241031T190938Z
LAST-MODIFIED:20250701T145839Z
UID:7726-1733126400-1751392800@aktalakota.stjo.org
SUMMARY:Wóuŋspe – EducationCreative Collaborations
DESCRIPTION:Wóuŋspe – Education | Creative Collaborations honors the deep connection between Native American students and their mentors\, seen through an artistic perspective. \nThis exhibition highlights the creative works of students from St. Joseph’s Indian School\, developed through collaborative projects with visiting artists and the South Dakota Artists in Schools and Communities program. Each artwork embodies the powerful blend of cultural expression\, artistic mentorship\, and collective creativity. These collaborations allowed students to delve into various mediums and themes\, enriching their connections to their artistic identities and heritage. The exhibition underscores the importance of sharing cultural traditions\, artistic methods\, and storytelling practices. Attendees will encounter a vibrant mix of voices and styles\, showcasing the fresh insights of youth alongside the wisdom of experience. The exhibit also features artwork from Oglala Lakota Artists in Residence Micheal Two Bulls and Randall Blaze.  Learn More!  \nArtist Reception – May 1\, 2025 | 5:00 – 7:00 PM
URL:https://aktalakota.stjo.org/event/wounspe-education/
LOCATION:Aktá Lakota Museum\, St. Joseph's Indian School\, Chamberlain\, SD\, 57325\, United States
CATEGORIES:Exhibits
ATTACH;FMTTYPE=image/jpeg:https://aktalakota.stjo.org/wp-content/uploads/2024/10/89dac90c59d94208885c29ead7226fd5521dfa329c776dc30b478cd246617847.jpg
ORGANIZER;CN="Akt%C3%A1 Lakota Museum":MAILTO:aktalakota@stjo.org
END:VEVENT
BEGIN:VEVENT
DTSTART;TZID=America/North_Dakota/Center:20250702T080000
DTEND;TZID=America/North_Dakota/Center:20250702T163000
DTSTAMP:20260421T145539
CREATED:20241031T182616Z
LAST-MODIFIED:20260112T173654Z
UID:7742-1751443200-1751473800@aktalakota.stjo.org
SUMMARY:Voices of the Plains Exhibition
DESCRIPTION:Voices of Resilience: Contemporary Native American Women Artists invites viewers to engage with the strength and creativity of Native American women.  The exhibition fosters a deeper understanding of their roles as innovators and leaders within the art community and their cultures\, celebrating the rich tapestry of their experience and the resilience that defines their art.  Pieces for this exhibit are pulled from the Aktá Lakota Museum’s permanent collection and includes work by Athena LaTocha\, Renelle White Buffalo\, Angela Babby\, Dyani White Hawk\, Jennifer White-Sahl\, Joanne Bird\, and Mikayla Patton.
URL:https://aktalakota.stjo.org/event/voices-of-resilience-exhibition/
LOCATION:Aktá Lakota Museum\, St. Joseph's Indian School\, Chamberlain\, SD\, 57325\, United States
CATEGORIES:Exhibits
ATTACH;FMTTYPE=image/jpeg:https://aktalakota.stjo.org/wp-content/uploads/2024/10/IMG_8518-female-artists.jpg
ORGANIZER;CN="Akt%C3%A1 Lakota Museum":MAILTO:aktalakota@stjo.org
END:VEVENT
BEGIN:VEVENT
DTSTART;VALUE=DATE:20250724
DTEND;VALUE=DATE:20260613
DTSTAMP:20260421T145539
CREATED:20250724T141044Z
LAST-MODIFIED:20260211T205742Z
UID:25834007-1753315200-1781308799@aktalakota.stjo.org
SUMMARY:Voices of the Plains
DESCRIPTION:This exhibit features artwork from the Aktá Lakota Museum’s permanent collection\, highlighting the creativity and resilience of artists connected to the Plains. Through a diverse range of styles\, media\, and generations\, Voices of the Plains celebrates the depth and vibrancy of Native expression. The exhibition also reflects the museum’s ongoing commitment to honoring Indigenous voices and expanding its evolving collection. \nCurated by David A. Meyer II \nFeatured artwork:  Pride of the Prairie (c) 2017 by Alfreda Beartrack-Algeo\, Lakota \n 
URL:https://aktalakota.stjo.org/event/voices-of-the-plains/
LOCATION:Aktá Lakota Museum\, St. Joseph's Indian School\, Chamberlain\, SD\, 57325\, United States
CATEGORIES:Exhibits,Going on now!
ATTACH;FMTTYPE=image/jpeg:https://aktalakota.stjo.org/wp-content/uploads/2025/07/03517-ALM-Exb_Voices-of-the-Plains_Ad-color_Summer-Hours.jpg
ORGANIZER;CN="Akt%C3%A1 Lakota Museum":MAILTO:aktalakota@stjo.org
END:VEVENT
END:VCALENDAR