BEGIN:VCALENDAR
VERSION:2.0
PRODID:-//Aktá Lakota Museum &amp; Cultural Center - ECPv6.15.20//NONSGML v1.0//EN
CALSCALE:GREGORIAN
METHOD:PUBLISH
X-WR-CALNAME:Aktá Lakota Museum &amp; Cultural Center
X-ORIGINAL-URL:https://aktalakota.stjo.org
X-WR-CALDESC:Events for Aktá Lakota Museum &amp; Cultural Center
REFRESH-INTERVAL;VALUE=DURATION:PT1H
X-Robots-Tag:noindex
X-PUBLISHED-TTL:PT1H
BEGIN:VTIMEZONE
TZID:America/North_Dakota/Center
BEGIN:DAYLIGHT
TZOFFSETFROM:-0600
TZOFFSETTO:-0500
TZNAME:CDT
DTSTART:20220313T080000
END:DAYLIGHT
BEGIN:STANDARD
TZOFFSETFROM:-0500
TZOFFSETTO:-0600
TZNAME:CST
DTSTART:20221106T070000
END:STANDARD
BEGIN:DAYLIGHT
TZOFFSETFROM:-0600
TZOFFSETTO:-0500
TZNAME:CDT
DTSTART:20230312T080000
END:DAYLIGHT
BEGIN:STANDARD
TZOFFSETFROM:-0500
TZOFFSETTO:-0600
TZNAME:CST
DTSTART:20231105T070000
END:STANDARD
BEGIN:DAYLIGHT
TZOFFSETFROM:-0600
TZOFFSETTO:-0500
TZNAME:CDT
DTSTART:20240310T080000
END:DAYLIGHT
BEGIN:STANDARD
TZOFFSETFROM:-0500
TZOFFSETTO:-0600
TZNAME:CST
DTSTART:20241103T070000
END:STANDARD
END:VTIMEZONE
BEGIN:VEVENT
DTSTART;VALUE=DATE:20230619
DTEND;VALUE=DATE:20231101
DTSTAMP:20260422T122055
CREATED:20230426T153607Z
LAST-MODIFIED:20230720T161448Z
UID:6656-1687132800-1698796799@aktalakota.stjo.org
SUMMARY:Navigating NarrativesThe Corps of Discovery in Teton Territory
DESCRIPTION:Navigating Narratives\nThe Corps of Discovery in Teton Territory \nNavigating Narratives is the newest exhibition by the Center for American Indian Research and Native Studies (CAIRNS). \nThe exhibit focuses on the eight days in September of 1804 when the Corps of Discovery traveled up the Missouri River through the land of the Teton people. It closely examines the published journals of William Clark\, Patrick Gass\, John Ordway\, and Joseph Whitehouse through the amazing artworks of sounds\, words\, and imagery by over sixty South Dakotan artists. \nMore than sixty artists\, poets\, and musicians read the journal entries of Clark\, Gass\, Ordway\, and Whitehouse\, and then created new works that are tied to them in some way. Their paintings\, poems\, and songs comprised this new educational art exhibition\, curated by CAIRNS. \nThe exhibition opened at the Aktá Lakota Museum on June 19 and runs through October; an artist reception and exhibit presentation was held on Saturday\, June 24\, 2023. \nMake plans to visit!  The museum is free and open to everyone! \n 
URL:https://aktalakota.stjo.org/event/opening-in-june/
LOCATION:SD
CATEGORIES:Exhibits
ATTACH;FMTTYPE=image/jpeg:https://aktalakota.stjo.org/wp-content/uploads/2023/06/Lewis-Clark-Map.jpg
ORGANIZER;CN="Akt%C3%A1 Lakota Museum":MAILTO:aktalakota@stjo.org
END:VEVENT
BEGIN:VEVENT
DTSTART;TZID=America/North_Dakota/Center:20230620T103000
DTEND;TZID=America/North_Dakota/Center:20230620T113000
DTSTAMP:20260422T122055
CREATED:20230605T173258Z
LAST-MODIFIED:20230605T180302Z
UID:6731-1687257000-1687260600@aktalakota.stjo.org
SUMMARY:STORY TIME WITH UŊČÍ & LALÁMatȟóla Ločhíŋ-he
DESCRIPTION:Story Time is offered every Tuesday at 10:30 AM CST. The program is geared toward elementary-age children but children young and old will enjoy stories read by elders of the Lakota and Dakota communities.  Today our story is Matȟóla Ločhíŋ-he – Little Bear is Hungry.  Written by the 9th-grade students at the Dupree High School Lakota Class (2020-2021) and illustrated by Tammy Joy Granados\, Cheyenne River Lakota. \nAbout the story:  Little Bear is Hungry is about a hungry little boy. What did Mom cook today? Is it deer meat\, pizza\, hot dogs\, lasagna\, or a surprise?!  This fun story practices questions and answers and ends with a traditional Lakota recipe for buffalo soup.  https://bit.ly/3qqFTAY \nA cultural activity will follow the reading. The event is free and open to everyone – come join the fun! \nJune Schedule
URL:https://aktalakota.stjo.org/event/story-time-with-unci-lalamat%c8%9fola-lochin-he/
LOCATION:Aktá Lakota Museum\, St. Joseph's Indian School\, Chamberlain\, SD\, 57325\, United States
CATEGORIES:Storytime
ATTACH;FMTTYPE=image/jpeg:https://aktalakota.stjo.org/wp-content/uploads/2023/06/99487464.jpg
ORGANIZER;CN="Akt%C3%A1 Lakota Museum":MAILTO:aktalakota@stjo.org
END:VEVENT
END:VCALENDAR